BEGIN:VCALENDAR
VERSION:2.0
PRODID:-//Yosemite Stanislaus Solutions - ECPv6.15.20//NONSGML v1.0//EN
CALSCALE:GREGORIAN
METHOD:PUBLISH
X-WR-CALNAME:Yosemite Stanislaus Solutions
X-ORIGINAL-URL:https://yosemitestanislaussolutions.com
X-WR-CALDESC:Events for Yosemite Stanislaus Solutions
REFRESH-INTERVAL;VALUE=DURATION:PT1H
X-Robots-Tag:noindex
X-PUBLISHED-TTL:PT1H
BEGIN:VTIMEZONE
TZID:America/Los_Angeles
BEGIN:DAYLIGHT
TZOFFSETFROM:-0800
TZOFFSETTO:-0700
TZNAME:PDT
DTSTART:20250309T100000
END:DAYLIGHT
BEGIN:STANDARD
TZOFFSETFROM:-0700
TZOFFSETTO:-0800
TZNAME:PST
DTSTART:20251102T090000
END:STANDARD
BEGIN:DAYLIGHT
TZOFFSETFROM:-0800
TZOFFSETTO:-0700
TZNAME:PDT
DTSTART:20260308T100000
END:DAYLIGHT
BEGIN:STANDARD
TZOFFSETFROM:-0700
TZOFFSETTO:-0800
TZNAME:PST
DTSTART:20261101T090000
END:STANDARD
BEGIN:DAYLIGHT
TZOFFSETFROM:-0800
TZOFFSETTO:-0700
TZNAME:PDT
DTSTART:20270314T100000
END:DAYLIGHT
BEGIN:STANDARD
TZOFFSETFROM:-0700
TZOFFSETTO:-0800
TZNAME:PST
DTSTART:20271107T090000
END:STANDARD
END:VTIMEZONE
BEGIN:VEVENT
DTSTART;TZID=America/Los_Angeles:20260515T100000
DTEND;TZID=America/Los_Angeles:20260515T130000
DTSTAMP:20260423T055704
CREATED:20251209T194656Z
LAST-MODIFIED:20251209T195250Z
UID:3769-1778839200-1778850000@yosemitestanislaussolutions.com
SUMMARY:YSS General Membership Meeting
DESCRIPTION:
URL:https://yosemitestanislaussolutions.com/event/yss-general-membership-meeting-4/
LOCATION:Forest Supervisor’s Building\, 19777 Greenley Rd\, Sonora\, CA\, 95370\, United States
END:VEVENT
BEGIN:VEVENT
DTSTART;TZID=America/Los_Angeles:20260717T100000
DTEND;TZID=America/Los_Angeles:20260717T130000
DTSTAMP:20260423T055704
CREATED:20251209T194801Z
LAST-MODIFIED:20251209T195151Z
UID:3771-1784282400-1784293200@yosemitestanislaussolutions.com
SUMMARY:YSS Forest Supervisors Meeting
DESCRIPTION:
URL:https://yosemitestanislaussolutions.com/event/yss-forest-supervisors-meeting/
LOCATION:Forest Supervisor’s Building\, 19777 Greenley Rd\, Sonora\, CA\, 95370\, United States
ORGANIZER;CN="Carolyn Lott":MAILTO:forestsolutions@sbcglobal.net
END:VEVENT
BEGIN:VEVENT
DTSTART;TZID=America/Los_Angeles:20260918T100000
DTEND;TZID=America/Los_Angeles:20260918T130000
DTSTAMP:20260423T055704
CREATED:20251209T194901Z
LAST-MODIFIED:20251209T195107Z
UID:3774-1789725600-1789736400@yosemitestanislaussolutions.com
SUMMARY:YSS General Membership Meeting
DESCRIPTION:
URL:https://yosemitestanislaussolutions.com/event/yss-general-membership-meeting-5/
LOCATION:Forest Supervisor’s Building\, 19777 Greenley Rd\, Sonora\, CA\, 95370\, United States
ORGANIZER;CN="Carolyn Lott":MAILTO:forestsolutions@sbcglobal.net
END:VEVENT
BEGIN:VEVENT
DTSTART;TZID=America/Los_Angeles:20261120T100000
DTEND;TZID=America/Los_Angeles:20261120T130000
DTSTAMP:20260423T055704
CREATED:20251209T194946Z
LAST-MODIFIED:20251209T195438Z
UID:3776-1795168800-1795179600@yosemitestanislaussolutions.com
SUMMARY:YSS General Membership Meeting
DESCRIPTION:
URL:https://yosemitestanislaussolutions.com/event/yss-general-membership-meeting-6/
LOCATION:Forest Supervisor’s Building\, 19777 Greenley Rd\, Sonora\, CA\, 95370\, United States
ORGANIZER;CN="Carolyn Lott":MAILTO:forestsolutions@sbcglobal.net
END:VEVENT
END:VCALENDAR